BEGIN:VCALENDAR
VERSION:2.0
PRODID:-//Greentown Labs - ECPv6.15.20//NONSGML v1.0//EN
CALSCALE:GREGORIAN
METHOD:PUBLISH
X-ORIGINAL-URL:https://greentownlabs.com
X-WR-CALDESC:Events for Greentown Labs
REFRESH-INTERVAL;VALUE=DURATION:PT1H
X-Robots-Tag:noindex
X-PUBLISHED-TTL:PT1H
BEGIN:VTIMEZONE
TZID:America/Chicago
BEGIN:DAYLIGHT
TZOFFSETFROM:-0600
TZOFFSETTO:-0500
TZNAME:CDT
DTSTART:20250309T080000
END:DAYLIGHT
BEGIN:STANDARD
TZOFFSETFROM:-0500
TZOFFSETTO:-0600
TZNAME:CST
DTSTART:20251102T070000
END:STANDARD
BEGIN:DAYLIGHT
TZOFFSETFROM:-0600
TZOFFSETTO:-0500
TZNAME:CDT
DTSTART:20260308T080000
END:DAYLIGHT
BEGIN:STANDARD
TZOFFSETFROM:-0500
TZOFFSETTO:-0600
TZNAME:CST
DTSTART:20261101T070000
END:STANDARD
BEGIN:DAYLIGHT
TZOFFSETFROM:-0600
TZOFFSETTO:-0500
TZNAME:CDT
DTSTART:20270314T080000
END:DAYLIGHT
BEGIN:STANDARD
TZOFFSETFROM:-0500
TZOFFSETTO:-0600
TZNAME:CST
DTSTART:20271107T070000
END:STANDARD
END:VTIMEZONE
BEGIN:VEVENT
DTSTART;TZID=America/Chicago:20260126T000000
DTEND;TZID=America/Chicago:20260128T235959
DTSTAMP:20260424T093318
CREATED:20260127T172048Z
LAST-MODIFIED:20260127T172049Z
UID:10000563-1769385600-1769644799@greentownlabs.com
SUMMARY:ACWA Power Innovation Days 2026
DESCRIPTION:Under the patronage of the Ministry of Energy\, Saudi Arabia\, scheduled to be held from 26th to 28th January 2026 at Riyadh’s innovation district venue The Garage\, in attendance of our Chairman\, Vice Chairman\, and CEO. \n\n\n\nIn its 4th edition\, the Innovation Days (ID26)\, led by ACWA Power in partnership with King Abdulaziz City for Science and Technology (KACST)\, King Abdullah University of Science and Technology (KAUST)\, and The Garage unites key stakeholders including global leaders\, key suppliers\, think tanks\, universities\, investors\, policy makers and entrepreneurs\, all under one roof\, experiencing open innovation in technology advancement\, integration and its implementation at scale and pace. \n\n\n\nBuilding on a legacy that began in 2022\, Innovation Days has quickly evolved from a pioneering academic partnership into the premier national platform for innovation in the energy sector. Following a milestone second edition in 2024\, the third edition in 2025 reached new heights under the patronage of the Ministry of Energy\, drawing over 1\,000 registrations from government entities\, investors\, entrepreneurs\, academic institutions\, and local and international media. The event showcased high-impact panel discussions\, expert talks\, interactive sessions\, and networking opportunities\, further reinforcing Innovation Days’ reputation as a leading platform for knowledge exchange\, collaboration\, and technological innovation. \n\n\n\n\nRegister here!\n\n\n\n\n\n\n\n\nVenue Information
URL:https://greentownlabs.com/event/acwa-power-innovation-days-2026/
LOCATION:The Garage\, Prince Turki Bin Abdulaziz Al Awal Rd\, Al Raed\, Riyadh\, 12354\, Saudi Arabia
CATEGORIES:Ecosystem
ATTACH;FMTTYPE=image/jpeg:https://greentownlabs.com/wp-content/uploads/2026/01/ACWA-Power-Master-KV26-12.17.25.jpg
END:VEVENT
END:VCALENDAR