BEGIN:VCALENDAR
VERSION:2.0
PRODID:-//Greentown Labs - ECPv6.15.20//NONSGML v1.0//EN
CALSCALE:GREGORIAN
METHOD:PUBLISH
X-WR-CALNAME:Greentown Labs
X-ORIGINAL-URL:https://greentownlabs.com
X-WR-CALDESC:Events for Greentown Labs
REFRESH-INTERVAL;VALUE=DURATION:PT1H
X-Robots-Tag:noindex
X-PUBLISHED-TTL:PT1H
BEGIN:VTIMEZONE
TZID:America/Chicago
BEGIN:DAYLIGHT
TZOFFSETFROM:-0600
TZOFFSETTO:-0500
TZNAME:CDT
DTSTART:20230312T080000
END:DAYLIGHT
BEGIN:STANDARD
TZOFFSETFROM:-0500
TZOFFSETTO:-0600
TZNAME:CST
DTSTART:20231105T070000
END:STANDARD
BEGIN:DAYLIGHT
TZOFFSETFROM:-0600
TZOFFSETTO:-0500
TZNAME:CDT
DTSTART:20240310T080000
END:DAYLIGHT
BEGIN:STANDARD
TZOFFSETFROM:-0500
TZOFFSETTO:-0600
TZNAME:CST
DTSTART:20241103T070000
END:STANDARD
BEGIN:DAYLIGHT
TZOFFSETFROM:-0600
TZOFFSETTO:-0500
TZNAME:CDT
DTSTART:20250309T080000
END:DAYLIGHT
BEGIN:STANDARD
TZOFFSETFROM:-0500
TZOFFSETTO:-0600
TZNAME:CST
DTSTART:20251102T070000
END:STANDARD
END:VTIMEZONE
BEGIN:VEVENT
DTSTART;TZID=America/Chicago:20240328T160000
DTEND;TZID=America/Chicago:20240328T173000
DTSTAMP:20260421T091310
CREATED:20240319T183756Z
LAST-MODIFIED:20240319T183757Z
UID:33835-1711641600-1711647000@greentownlabs.com
SUMMARY:Introduction to Angel Investing
DESCRIPTION:Join us on March 28 for the first workshop of the Houston Ion District Investor Activation Program! \n\n\n\n\n\n\n  Register Here\n\n\n\n\n\n\n\n\n\n\nJoin us at Greentown Houston for the first workshop of the Houston Ion District Investor Activation Program! The Investor Activation Program is a collaboration between Greentown Labs and The Ion to educate and activate a new generation of investors supporting the climate technology startups of tomorrow. To sign up to join the program\, please fill out this interest form. \n\n\n\nThis workshop will be hosted by our friends at the Houston Angel Network to teach attendees about the world of early stage startup investing. This session will seek to educate individuals on the fundamentals of angel investing as well as how to get involved yourself. \n\n\n\nAgenda4:00 pm – 4:15 pm: Check-In & Networking4:15 pm – 5:00 pm: Workshop5:00 pm – 5:15 pm: Q&A5:15 pm – 5:30 pm: Networking & Event concludes \n\n\n\nQuestions? Please reach out to Greentown Labs Investor Program Manager\, Dan Cliff (dcliff@greentownlabs.com). \n\n\n\n\n\n\n\nVenue Information
URL:https://greentownlabs.com/event/introduction-to-angel-investing-2/
LOCATION:Greentown Houston\, 4200 San Jacinto St.\, Houston\, Texas\, 77004\, United States
CATEGORIES:Houston
ATTACH;FMTTYPE=image/png:https://greentownlabs.com/wp-content/uploads/2024/03/HTX-TV-Slide-13-1.png
END:VEVENT
END:VCALENDAR