BEGIN:VCALENDAR
VERSION:2.0
PRODID:-//Greentown Labs - ECPv6.15.20//NONSGML v1.0//EN
CALSCALE:GREGORIAN
METHOD:PUBLISH
X-WR-CALNAME:Greentown Labs
X-ORIGINAL-URL:https://greentownlabs.com
X-WR-CALDESC:Events for Greentown Labs
REFRESH-INTERVAL;VALUE=DURATION:PT1H
X-Robots-Tag:noindex
X-PUBLISHED-TTL:PT1H
BEGIN:VTIMEZONE
TZID:America/Chicago
BEGIN:DAYLIGHT
TZOFFSETFROM:-0600
TZOFFSETTO:-0500
TZNAME:CDT
DTSTART:20230312T080000
END:DAYLIGHT
BEGIN:STANDARD
TZOFFSETFROM:-0500
TZOFFSETTO:-0600
TZNAME:CST
DTSTART:20231105T070000
END:STANDARD
BEGIN:DAYLIGHT
TZOFFSETFROM:-0600
TZOFFSETTO:-0500
TZNAME:CDT
DTSTART:20240310T080000
END:DAYLIGHT
BEGIN:STANDARD
TZOFFSETFROM:-0500
TZOFFSETTO:-0600
TZNAME:CST
DTSTART:20241103T070000
END:STANDARD
BEGIN:DAYLIGHT
TZOFFSETFROM:-0600
TZOFFSETTO:-0500
TZNAME:CDT
DTSTART:20250309T080000
END:DAYLIGHT
BEGIN:STANDARD
TZOFFSETFROM:-0500
TZOFFSETTO:-0600
TZNAME:CST
DTSTART:20251102T070000
END:STANDARD
END:VTIMEZONE
BEGIN:VEVENT
DTSTART;TZID=America/Chicago:20240209T083000
DTEND;TZID=America/Chicago:20240209T100000
DTSTAMP:20260423T065452
CREATED:20240129T203903Z
LAST-MODIFIED:20240129T204257Z
UID:33094-1707467400-1707472800@greentownlabs.com
SUMMARY:Gulf Coast Clean Hydrogen Market Overview
DESCRIPTION:A Market Development Information Resource in Making\, Moving\, Storing and Using Clean Hydrogen\n\n\n\nJoin The Center for Houston’s Future and Saoradh Enterprise Partners (SEP) for an interactive presentation and live demonstration of SEP’s updated North American Hydrogen Market Model\, Global Supply Chain Database\, and NewsFeed. This is the most comprehensive hydrogen market data system built to date\, which is part of the Hydrogen Data Consortium.  \n\n\n\nClean hydrogen has become critical for the global energy transition to reach net zero by 2050\, and the Gulf Coast hydrogen ecosystem is playing a critical role. The challenge before us is to transition current hydrogen use to clean technologies and penetrate new markets to reach as much as 80 million metric tons by 2050 in North America — more than a 5x increase. \n\n\n\nThis workshop covers trends and data highlights for current and future hydrogen supply and demand\, from macro-level down to the plant level. The live demonstration of the data system includes specific use cases\, market opportunities\, and unique insights from the data. This data is critical to understanding addressable markets\, informing project development\, determining bankability\, and fluency in current and future market dynamics. \n\n\n\nA light breakfast will be served at 8:30 am. The presentation will begin at 9 am and conclude with Q&A around 10 am. \n\n\n\nRegister\n\n\n\nVisit the registration page for more information.
URL:https://greentownlabs.com/event/gulf-coast-clean-hydrogen-market-overview/
LOCATION:Center for Houston’s Future Partnerships Tower\, 701 Avenida De Las Americas Suite 900\, Houston\, Texas\, 77010\, United States
CATEGORIES:Ecosystem
ATTACH;FMTTYPE=image/png:https://greentownlabs.com/wp-content/uploads/2024/01/save-the-date-REGISTER-LIGHT-BREAKFAST-1.png
END:VEVENT
END:VCALENDAR