BEGIN:VCALENDAR
VERSION:2.0
PRODID:-//Greentown Labs - ECPv6.15.20//NONSGML v1.0//EN
CALSCALE:GREGORIAN
METHOD:PUBLISH
X-WR-CALNAME:Greentown Labs
X-ORIGINAL-URL:https://greentownlabs.com
X-WR-CALDESC:Events for Greentown Labs
REFRESH-INTERVAL;VALUE=DURATION:PT1H
X-Robots-Tag:noindex
X-PUBLISHED-TTL:PT1H
BEGIN:VTIMEZONE
TZID:America/Chicago
BEGIN:DAYLIGHT
TZOFFSETFROM:-0600
TZOFFSETTO:-0500
TZNAME:CDT
DTSTART:20250309T080000
END:DAYLIGHT
BEGIN:STANDARD
TZOFFSETFROM:-0500
TZOFFSETTO:-0600
TZNAME:CST
DTSTART:20251102T070000
END:STANDARD
BEGIN:DAYLIGHT
TZOFFSETFROM:-0600
TZOFFSETTO:-0500
TZNAME:CDT
DTSTART:20260308T080000
END:DAYLIGHT
BEGIN:STANDARD
TZOFFSETFROM:-0500
TZOFFSETTO:-0600
TZNAME:CST
DTSTART:20261101T070000
END:STANDARD
BEGIN:DAYLIGHT
TZOFFSETFROM:-0600
TZOFFSETTO:-0500
TZNAME:CDT
DTSTART:20270314T080000
END:DAYLIGHT
BEGIN:STANDARD
TZOFFSETFROM:-0500
TZOFFSETTO:-0600
TZNAME:CST
DTSTART:20271107T070000
END:STANDARD
END:VTIMEZONE
BEGIN:VEVENT
DTSTART;TZID=America/Chicago:20260203T110000
DTEND;TZID=America/Chicago:20260203T120000
DTSTAMP:20260421T093614
CREATED:20260121T202311Z
LAST-MODIFIED:20260121T210244Z
UID:40671-1770116400-1770120000@greentownlabs.com
SUMMARY:Go Make 2026 Informational Webinar
DESCRIPTION:Register here!\n\n\n\n\n\n\n\n\nJoin the Greentown Labs\, Shell\, and Technip teams for this informational webinar\, where we will discuss Go Make 2026 with Shell and Technip Energies and take Q&A from the audience. This webinar will answer the following questions\, plus more: \n\n\n\n\nWhat is Go Make 2026 and how can it help my company? \n\n\n\nHow can I make sure we are a good fit? \n\n\n\nWhat does the application process look like? \n\n\n\nWhat are the commitments and key dates? \n\n\n\nWhat are Shell and Technip Energies’ capabilities\, and how can I work with them through this program?\n\n\n\nAudience Q&A with the Greentown Labs\, Shell\, and Technip teams
URL:https://greentownlabs.com/event/go-make-2026-informational-webinar/
LOCATION:Virtual Event
ATTACH;FMTTYPE=image/png:https://greentownlabs.com/wp-content/uploads/2026/01/For-PR-featured-image-on-Greentown-website-1.png
END:VEVENT
END:VCALENDAR