BEGIN:VCALENDAR
VERSION:2.0
PRODID:-//Greentown Labs - ECPv6.15.20//NONSGML v1.0//EN
CALSCALE:GREGORIAN
METHOD:PUBLISH
X-WR-CALNAME:Greentown Labs
X-ORIGINAL-URL:https://greentownlabs.com
X-WR-CALDESC:Events for Greentown Labs
REFRESH-INTERVAL;VALUE=DURATION:PT1H
X-Robots-Tag:noindex
X-PUBLISHED-TTL:PT1H
BEGIN:VTIMEZONE
TZID:America/New_York
BEGIN:DAYLIGHT
TZOFFSETFROM:-0500
TZOFFSETTO:-0400
TZNAME:EDT
DTSTART:20220313T070000
END:DAYLIGHT
BEGIN:STANDARD
TZOFFSETFROM:-0400
TZOFFSETTO:-0500
TZNAME:EST
DTSTART:20221106T060000
END:STANDARD
BEGIN:DAYLIGHT
TZOFFSETFROM:-0500
TZOFFSETTO:-0400
TZNAME:EDT
DTSTART:20230312T070000
END:DAYLIGHT
BEGIN:STANDARD
TZOFFSETFROM:-0400
TZOFFSETTO:-0500
TZNAME:EST
DTSTART:20231105T060000
END:STANDARD
BEGIN:DAYLIGHT
TZOFFSETFROM:-0500
TZOFFSETTO:-0400
TZNAME:EDT
DTSTART:20240310T070000
END:DAYLIGHT
BEGIN:STANDARD
TZOFFSETFROM:-0400
TZOFFSETTO:-0500
TZNAME:EST
DTSTART:20241103T060000
END:STANDARD
END:VTIMEZONE
BEGIN:VEVENT
DTSTART;TZID=America/New_York:20230613T183000
DTEND;TZID=America/New_York:20230613T203000
DTSTAMP:20260422T113136
CREATED:20230509T155317Z
LAST-MODIFIED:20230517T164940Z
UID:30429-1686681000-1686688200@greentownlabs.com
SUMMARY:FoodHack Boston | Precision Fermentation: Future of Nutrition?
DESCRIPTION:Join us to learn\, get inspired\, and network! \n\n\n\nJoin FoodHack Boston’s meetup for entrepreneurs\, professionals\, investors and food enthusiasts to network and hear from food industry speakers. \n\n\n\nWhether you’re just starting your food business\, looking to connect with startups to invest in\, or want to network with other like-minded professionals—this event is for you. \n\n\n\nThe event is free but registration is necessary. Click here to register. \n\n\n\nAgenda\n\n\n\n\nQ&A: You will have the opportunity to ask questions to your local speakers.\n\n\n\nPitch: Are you launching a new product? Are you looking for your next R&D expert or your next CEO? Are you looking for a job or an internship? Join our 30-second pitch session and share your business update with the audience (open to anyone).\n\n\n\nNetworking with Food & Drinks\n\n\n\n\nGuest Speakers\n\n\n\n\nAletta Schnitzler\, Chief Scientific Officer at TurtleTree\n\n\n\nDel Afonso\, Founder & CEO of Harmony Baby Nutrition\n\n\n\n\nAbout the Organizer:\n\n\n\nFoodHack is a community-driven platform that inspires\, highlights and connects food entrepreneurs and innovators with meetups across the globe\, a bi-weekly food industry newsletter\, a membership program\, and an annual summit. \n\n\n\nMust RESERVE in advance and please do let us know for cancellation. \n\n\n\n  \n\n\n\n 
URL:https://greentownlabs.com/event/foodhack-boston-meetup/
LOCATION:Greentown Boston\, 444 Somerville Ave\, Somerville\, Massachusetts\, 02143\, United States
CATEGORIES:Boston,Ecosystem
ATTACH;FMTTYPE=image/jpeg:https://greentownlabs.com/wp-content/uploads/2023/05/Foodhack-Boston.jpeg
END:VEVENT
END:VCALENDAR