BEGIN:VCALENDAR
VERSION:2.0
PRODID:-//Greentown Labs - ECPv6.15.20//NONSGML v1.0//EN
CALSCALE:GREGORIAN
METHOD:PUBLISH
X-WR-CALNAME:Greentown Labs
X-ORIGINAL-URL:https://greentownlabs.com
X-WR-CALDESC:Events for Greentown Labs
REFRESH-INTERVAL;VALUE=DURATION:PT1H
X-Robots-Tag:noindex
X-PUBLISHED-TTL:PT1H
BEGIN:VTIMEZONE
TZID:America/Chicago
BEGIN:DAYLIGHT
TZOFFSETFROM:-0600
TZOFFSETTO:-0500
TZNAME:CDT
DTSTART:20220313T080000
END:DAYLIGHT
BEGIN:STANDARD
TZOFFSETFROM:-0500
TZOFFSETTO:-0600
TZNAME:CST
DTSTART:20221106T070000
END:STANDARD
BEGIN:DAYLIGHT
TZOFFSETFROM:-0600
TZOFFSETTO:-0500
TZNAME:CDT
DTSTART:20230312T080000
END:DAYLIGHT
BEGIN:STANDARD
TZOFFSETFROM:-0500
TZOFFSETTO:-0600
TZNAME:CST
DTSTART:20231105T070000
END:STANDARD
BEGIN:DAYLIGHT
TZOFFSETFROM:-0600
TZOFFSETTO:-0500
TZNAME:CDT
DTSTART:20240310T080000
END:DAYLIGHT
BEGIN:STANDARD
TZOFFSETFROM:-0500
TZOFFSETTO:-0600
TZNAME:CST
DTSTART:20241103T070000
END:STANDARD
END:VTIMEZONE
BEGIN:VEVENT
DTSTART;TZID=America/Chicago:20230420T180000
DTEND;TZID=America/Chicago:20230420T210000
DTSTAMP:20260422T011719
CREATED:20230228T153912Z
LAST-MODIFIED:20230414T200941Z
UID:29660-1682013600-1682024400@greentownlabs.com
SUMMARY:EnergyBar: Where Art & Climatetech Meet
DESCRIPTION:Join us at the intersection of art and climate for a special EnergyBar!\n\n\n\n\nBuy Tickets on Eventbrite\n\nRegister now!\n\n\n\n\n\n\n\nHow can art propel forward conversation and engagement around preserving planet Earth?  \n\n\n\nGreentown Labs\, Boston Ballet\, and the Netherlands Innovation Network are delighted to present an immersive dance experience with Boston Ballet’s ÜNI\, a multimedia pop-up experience dome! You will also experience the beauty of La Mer\, a powerful brand-new ballet created by lauded Dutch choreographer Nanine Linning with Boston Ballet. Inspired by the ocean\, La Mer seeks to inspire curiosity about our shared ocean planet and to raise hope for a sustainable future for all\, through Linning’s theatrical and dramatic movement and designs. \n\n\n\nJoin us on April 20 and jeté beyond the tech community to explore how the intersection of art and technology inspires ideas that lead to new innovations and spark engagement to solve the climate crisis through collaboration. \n\n\n\nAbout EnergyBar\n\n\n\nEnergyBar is Greentown Labs’ signature networking event that fosters conversation and collaboration among entrepreneurs\, investors\, corporate leaders\, students\, neighbors\, and other climate champions passionate about innovations in climatetech and the energy transition. \n\n\n\nAbout Netherlands Innovation Network\n\n\n\nThe Netherlands Innovation Network in Boston is the science and technology arm of the Dutch diplomatic network. Their goal is to strengthen relationships between the US and the Netherlands in the fields of innovation\, technology and science. They assess the potential and impact of latest tech trends and connect Dutch stakeholders with potential partners on this side of the Atlantic. \n\n\n\nAbout Boston Ballet \n\n\n\nSince 1963\, Boston Ballet’s internationally acclaimed performances of classical\, neo-classical\, and contemporary ballets\, combined with a dedication to world class dance education and community initiative programs\, have made the institution a leader in its field\, with a 53-year history of promoting excellence and access to dance. Under the leadership of Artistic Director Mikko Nissinen and Executive Director Meredith (Max) Hodges\, the Company maintains a diverse repertoire\, ranging from full-length ballets to new works by some of today’s finest choreographers. Boston Ballet’s second company\, Boston Ballet II\, is comprised of dancers who gain experience by performing with the Company and independently\, presenting special programs to audiences throughout the Northeast. \n\n\n\nRegister Now\n\n\n\nQuestions? Reach out to Greentown Labs’ Events Coordinator\, Kelly Wilson (kwilson@greentownlabs.com) \n\n\n\n\n\n\n\n\n\n\n\nPlease note that by registering to attend this event you are accepting these terms: You acknowledge that alcohol will be served and all attendees are subject to be ID’ed (only those 21+ will be served); You consent to your image or likeness being used in content associated with the event; You release Greentown Labs and all partners from any and all liability stemming from any event-related incident. \n\n\n\nVenue Information \n\n\n\nParking is incredibly limited at Greentown Labs and we encourage attendees to consider taking advantage of public transportation. We’re a short walk from the newly opened Union Square station\, as well as 1 mile away from the Harvard MBTA station. Union Square in Somerville is also easily accessible via the #86 and #91 MBTA buses. We offer indoor bike parking on-site and the closest Bluebikes stations are at Dane St.\, Conway Park and Union Square. \n\n\n\n \n\n\n\n\n\n \n\n\n\n \n\n\n\n \n\n\n\nEvent Health + Safety Policy\n\n\n\n \n\n\n\nThis event is in-person and masks are encouraged but not required Greentown Labs. We recommend a medical grade or K/N95 mask; Greentown provides medical grade masks at the front desk of each location.  \n\n\n\nGreentown Labs is committed to the health and safety of our team\, startups\, partners\, and attendees. We are actively monitoring local guidelines and CDC recommendations.
URL:https://greentownlabs.com/event/energybar-where-art-climatetech-meet/
LOCATION:Greentown Boston\, 444 Somerville Ave\, Somerville\, Massachusetts\, 02143\, United States
CATEGORIES:EnergyBar
ATTACH;FMTTYPE=image/png:https://greentownlabs.com/wp-content/uploads/2023/02/EnergyBar-Where-Art-and-Climatetech-Meet-2160-×-1080-px-for-EventbriteWebsite.png
END:VEVENT
END:VCALENDAR