BEGIN:VCALENDAR
VERSION:2.0
PRODID:-//Greentown Labs - ECPv6.15.20//NONSGML v1.0//EN
CALSCALE:GREGORIAN
METHOD:PUBLISH
X-WR-CALNAME:Greentown Labs
X-ORIGINAL-URL:https://greentownlabs.com
X-WR-CALDESC:Events for Greentown Labs
REFRESH-INTERVAL;VALUE=DURATION:PT1H
X-Robots-Tag:noindex
X-PUBLISHED-TTL:PT1H
BEGIN:VTIMEZONE
TZID:America/Chicago
BEGIN:DAYLIGHT
TZOFFSETFROM:-0600
TZOFFSETTO:-0500
TZNAME:CDT
DTSTART:20250309T080000
END:DAYLIGHT
BEGIN:STANDARD
TZOFFSETFROM:-0500
TZOFFSETTO:-0600
TZNAME:CST
DTSTART:20251102T070000
END:STANDARD
BEGIN:DAYLIGHT
TZOFFSETFROM:-0600
TZOFFSETTO:-0500
TZNAME:CDT
DTSTART:20260308T080000
END:DAYLIGHT
BEGIN:STANDARD
TZOFFSETFROM:-0500
TZOFFSETTO:-0600
TZNAME:CST
DTSTART:20261101T070000
END:STANDARD
BEGIN:DAYLIGHT
TZOFFSETFROM:-0600
TZOFFSETTO:-0500
TZNAME:CDT
DTSTART:20270314T080000
END:DAYLIGHT
BEGIN:STANDARD
TZOFFSETFROM:-0500
TZOFFSETTO:-0600
TZNAME:CST
DTSTART:20271107T070000
END:STANDARD
END:VTIMEZONE
BEGIN:VEVENT
DTSTART;TZID=America/Chicago:20260205T173000
DTEND;TZID=America/Chicago:20260205T193000
DTSTAMP:20260424T071804
CREATED:20251215T213243Z
LAST-MODIFIED:20260122T193713Z
UID:40309-1770312600-1770319800@greentownlabs.com
SUMMARY:EnergyBar: Looking Ahead Together
DESCRIPTION:REGISTER NOW\n\n\n\n\n\n\n\n\n\n\nEnergyBar is Greentown Boston’s signature networking event!\n\n\n\nWe are excited to welcome you back to Greentown Boston for our first EnergyBar of the year! On Thursday\, February 5\, we’re inviting the climatetech and energy innovation ecosystem to join us for an evening of networking over drinks and bites. For 15 years\, our community has been growing strong—and now we’re inviting you to join us to look ahead and celebrate the next 15 years of climate action. \n\n\n\nStartups thrive when supported by a diverse ecosystem\, and it’s more important now than ever to foster our climate community and bring even more champions into the fold! Whether you’re an investor\, potential partner\, researcher\, job-seeker\, or neighbor\, our startup community needs you in 2026 and beyond. We hope to see you there! \n\n\n\nAgenda\n\n\n\nAll times are in ET: \n\n\n\n5:30 to 6:00 p.m. Check-in and networking \n\n\n\n6:00 to 6:10 p.m. Greentown Labs welcome remarks from Chief Executive Officer\, Georgina Campbell Flatter\, and Head of Boston\, Julia Travaglini. \n\n\n\n6:10 to 7:30 p.m. Networking \n\n\n\nAbout EnergyBar\n\n\n\n​EnergyBar is Greentown Boston’s signature networking event that fosters conversation and collaboration among entrepreneurs\, investors\, corporate leaders\, philanthropists\, students\, neighbors\, and other climate champions passionate about innovations in climatetech and the energy transition. \n\n\n\nRegister Now\n\n\n\nIf you have questions or need to request accommodation\, please reach out to Greentown Labs’ Ecosystem and Events Manager\, Kelly Wilson (kwilson@greentownlabs.com). \n\n\n\n\n\n\n\nPlease note that by registering to attend this event you are accepting these terms: You acknowledge that alcohol will be served and all attendees are subject to be ID’ed (only those 21+ will be served); You consent to your image or likeness being used in content associated with the event; You release Greentown Labs and all partners from any and all liability stemming from any event-related incident. \n\n\n\nVenue Information \n\n\n\nParking is incredibly limited at Greentown Labs and we encourage attendees to consider taking advantage of public transportation. We’re a short walk from the recently opened Union Square station\, as well as 1 mile away from both the Harvard and Porter MBTA stations. Union Square in Somerville is also easily accessible via the #86 and #91 MBTA buses. We offer bike parking on-site and the closest Bluebikes stations are at Dane St.\, Conway Park and Union Square.
URL:https://greentownlabs.com/event/energybar-looking-ahead-together/
LOCATION:Greentown Boston\, 444 Somerville Ave\, Somerville\, Massachusetts\, 02143\, United States
CATEGORIES:Boston,EnergyBar
ATTACH;FMTTYPE=image/png:https://greentownlabs.com/wp-content/uploads/2025/12/for-website-thumbnail-1.png
END:VEVENT
END:VCALENDAR