BEGIN:VCALENDAR
VERSION:2.0
PRODID:-//Greentown Labs - ECPv6.15.20//NONSGML v1.0//EN
CALSCALE:GREGORIAN
METHOD:PUBLISH
X-WR-CALNAME:Greentown Labs
X-ORIGINAL-URL:https://greentownlabs.com
X-WR-CALDESC:Events for Greentown Labs
REFRESH-INTERVAL;VALUE=DURATION:PT1H
X-Robots-Tag:noindex
X-PUBLISHED-TTL:PT1H
BEGIN:VTIMEZONE
TZID:America/Chicago
BEGIN:DAYLIGHT
TZOFFSETFROM:-0600
TZOFFSETTO:-0500
TZNAME:CDT
DTSTART:20220313T080000
END:DAYLIGHT
BEGIN:STANDARD
TZOFFSETFROM:-0500
TZOFFSETTO:-0600
TZNAME:CST
DTSTART:20221106T070000
END:STANDARD
BEGIN:DAYLIGHT
TZOFFSETFROM:-0600
TZOFFSETTO:-0500
TZNAME:CDT
DTSTART:20230312T080000
END:DAYLIGHT
BEGIN:STANDARD
TZOFFSETFROM:-0500
TZOFFSETTO:-0600
TZNAME:CST
DTSTART:20231105T070000
END:STANDARD
BEGIN:DAYLIGHT
TZOFFSETFROM:-0600
TZOFFSETTO:-0500
TZNAME:CDT
DTSTART:20240310T080000
END:DAYLIGHT
BEGIN:STANDARD
TZOFFSETFROM:-0500
TZOFFSETTO:-0600
TZNAME:CST
DTSTART:20241103T070000
END:STANDARD
END:VTIMEZONE
BEGIN:VEVENT
DTSTART;TZID=America/Chicago:20230608T173000
DTEND;TZID=America/Chicago:20230608T200000
DTSTAMP:20260420T094159
CREATED:20230404T144933Z
LAST-MODIFIED:20230605T193110Z
UID:30033-1686245400-1686254400@greentownlabs.com
SUMMARY:EnergyBar: Go Energize 2023 Kickoff
DESCRIPTION:Join us virtually or at Greentown Boston on Thursday\, June 8 to celebrate the kickoff of Go Energize 2023!\n\n\n\n\nBuy Tickets on Eventbrite\n\nRegister here\n\n\n\n\n\n\n\nJoin us to celebrate the kickoff of Go Energize 2023\, a Greentown Go startup-corporate partnerships accelerator program focused on decarbonizing our energy system\, in partnership with Vineyard Wind and MassCEC. \n\n\n\nAt this EnergyBar\, attendees will hear lightning pitches from finalists hoping to accelerate environmental and digital solutions for responsible development in offshore wind industry—like the Vineyard Wind Project\, the nation’s first utility-scale offshore wind farm. \n\n\n\nA total of 40 gigawatts of offshore wind capacity is set to come online in the United States in the next decade. Cutting-edge technology is key for offshore wind energy projects to be developed in an environmentally responsible manner while also delivering electricity for consumers. Go Energize 2023 aims to reduce barriers to entry through industry education and relationship-building across relevant networks. \n\n\n\nAgenda\n\n\n\n5﻿:30-6:00 pm: Arrivals and Networking* \n\n\n\n6:00-6:15pm: R﻿emarks from Greentown\, Vineyard Wind\, and MassCEC \n\n\n\n6:15-6:25 pm: F﻿ireside Chat featuring: \n\n\n\n\nJulie Angus\, CEO\, Open Ocean Robotics\n\n\n\nMichael Clayton\, Project Manager\, Vineyard Wind\n\n\n\nModerator: Michela Grunebaum\, Director of Programs\, Greentown Go\n\n\n\n\n6:25-6:45pm: Lightning Pitches featuring: \n\n\n\n\nVaarst\n\n\n\nDel Mar Oceanographic\n\n\n\nBlue Atlas Robotics\n\n\n\nLobster Robotics\n\n\n\nSeaDeep\n\n\n\nSOLS\n\n\n\nFutureOn\n\n\n\nEologix\n\n\n\nHyperKelp\n\n\n\nHydroSurv\n\n\n\n\nG﻿reentown Closing Remarks \n\n\n\n6﻿:45-8:00pm: Networking * \n\n\n\n*﻿In-person only \n\n\n\nAbout EnergyBar\n\n\n\nEnergyBar is Greentown Labs’ signature networking event that fosters conversation and collaboration among entrepreneurs\, investors\, corporate leaders\, students\, neighbors\, and other climate champions passionate about innovations in climatetech and the energy transition. \n\n\n\nAbout Greentown Go \n\n\n\nThe climate crisis urgently demands sweeping climatetech deployment. While startups bring the solutions\, corporates often bring commercialization pathways and scale. That’s why Greentown Go builds partnerships that propel climatetech solutions to market—at the pace needed to tackle climate change. \n\n\n\nWith a mission of decarbonizing the key greenhouse gas-emitting sectors\, Greentown Go programs inject momentum and traction into startup-corporate collaborations\, unlocking the power of climate solutions at scale. \n\n\n\nRegister Now\n\n\n\nIf you have questions or need to request accommodation\, please reach out to Greentown Labs’ Events Coordinator\, Kelly Wilson (kwilson@greentownlabs.com). \n\n\n\n\n\n\n\n\n\n\n\nPlease note that by registering to attend this event you are accepting these terms: You acknowledge that alcohol will be served and all attendees are subject to be ID’ed (only those 21+ will be served); You consent to your image or likeness being used in content associated with the event; You release Greentown Labs and all partners from any and all liability stemming from any event-related incident. \n\n\n\n\n\n\n\nVenue Information \n\n\n\nParking is incredibly limited at Greentown Labs. We encourage attendees to consider taking advantage of public transportation. We’re a short walk from the newly opened Union Square station and 1 mile away from the Harvard MBTA station. Union Square in Somerville is easily accessible via the #86 and #91 MBTA buses. We offer indoor bike parking on-site and the closest Bluebikes stations are at Dane St.\, Conway Park and Union Square. \n\n\n\n \n\n\n\n\n\n \n\n\n\nEvent Health + Safety Policy\n\n\n\n \n\n\n\nThis event is in-person and masks are encouraged but not required Greentown Labs. We recommend a medical grade or K/N95 mask; Greentown provides medical grade masks at the front desk of each location.  \n\n\n\nGreentown Labs is committed to the health and safety of our team\, startups\, partners\, and attendees\, and is actively monitoring local guidelines and CDC recommendations.
URL:https://greentownlabs.com/event/energybar-go-energize-2023-kickoff/
LOCATION:Greentown Boston\, 444 Somerville Ave\, Somerville\, Massachusetts\, 02143\, United States
CATEGORIES:EnergyBar
ATTACH;FMTTYPE=image/png:https://greentownlabs.com/wp-content/uploads/2023/04/Go-Energize-2023-Kickoff-Event-1.png
END:VEVENT
END:VCALENDAR