BEGIN:VCALENDAR
VERSION:2.0
PRODID:-//Greentown Labs - ECPv6.15.20//NONSGML v1.0//EN
CALSCALE:GREGORIAN
METHOD:PUBLISH
X-WR-CALNAME:Greentown Labs
X-ORIGINAL-URL:https://greentownlabs.com
X-WR-CALDESC:Events for Greentown Labs
REFRESH-INTERVAL;VALUE=DURATION:PT1H
X-Robots-Tag:noindex
X-PUBLISHED-TTL:PT1H
BEGIN:VTIMEZONE
TZID:America/Chicago
BEGIN:DAYLIGHT
TZOFFSETFROM:-0600
TZOFFSETTO:-0500
TZNAME:CDT
DTSTART:20220313T080000
END:DAYLIGHT
BEGIN:STANDARD
TZOFFSETFROM:-0500
TZOFFSETTO:-0600
TZNAME:CST
DTSTART:20221106T070000
END:STANDARD
BEGIN:DAYLIGHT
TZOFFSETFROM:-0600
TZOFFSETTO:-0500
TZNAME:CDT
DTSTART:20230312T080000
END:DAYLIGHT
BEGIN:STANDARD
TZOFFSETFROM:-0500
TZOFFSETTO:-0600
TZNAME:CST
DTSTART:20231105T070000
END:STANDARD
BEGIN:DAYLIGHT
TZOFFSETFROM:-0600
TZOFFSETTO:-0500
TZNAME:CDT
DTSTART:20240310T080000
END:DAYLIGHT
BEGIN:STANDARD
TZOFFSETFROM:-0500
TZOFFSETTO:-0600
TZNAME:CST
DTSTART:20241103T070000
END:STANDARD
END:VTIMEZONE
BEGIN:VEVENT
DTSTART;TZID=America/Chicago:20230202T173000
DTEND;TZID=America/Chicago:20230202T193000
DTSTAMP:20260424T072140
CREATED:20230109T171115Z
LAST-MODIFIED:20230130T172439Z
UID:29173-1675359000-1675366200@greentownlabs.com
SUMMARY:EnergyBar: Celebrating a Decade of Impact
DESCRIPTION:Join us on Feb. 2 for our first EnergyBar of 2023!\n\n\n\n\nRegister Now\n\nRegister Now\n\n\n\n\n\n\n\nEnergyBar is Greentown Labs’ signature networking event devoted to connecting partners and investors to our community of climatetech entrepreneurs\, so it’s only right that we dedicate our first EnergyBar of 2023 to the incredible tenure of Greentown’s first employee\, Emily Reichert\, as she steps down as CEO after ten years leading our organization. \n\n\n\nJoin us on Thursday\, February 2 to celebrate a decade of impact together as a team\, community\, and ecosystem and cheers to all that the future holds for Greentown! \n\n\n\n\n\n\n\nRegister Now\n\n\n\nQuestions? Reach out to Greentown Labs’ Director of Events\, Jill Kirkpatrick (jill@greentownlabs.com) \n\n\n\n\n\n\n\n\n\n\n\nPlease note that by registering to attend this event you are accepting these terms: You acknowledge that alcohol will be served and all attendees are subject to be ID’ed (only those 21+ will be served); You consent to your image or likeness being used in content associated with the event; You release Greentown Labs and all partners from any and all liability stemming from any event-related incident. \n\n\n\n\n\n\n\nVenue Information \n\n\n\nParking is incredibly limited at Greentown Labs and we encourage attendees to consider taking advantage of public transportation. We’re a short walk from the newly opened Union Square station\, as well as 1 mile away from the Harvard MBTA station. Union Square in Somerville is also easily accessible via the #86 and #91 MBTA buses. We offer indoor bike parking on-site and the closest Bluebikes stations are at Dane St.\, Conway Park and Union Square. \n\n\n\n \n\n\n\n\n\n \n\n\n\n \n\n\n\n \n\n\n\nEvent Health + Safety Policy\n\n\n\n \n\n\n\nThis event is in-person and masks are encouraged but not required Greentown Labs. We recommend a medical grade or K/N95 mask; Greentown provides medical grade masks at the front desk of each location.  \n\n\n\nGreentown Labs is committed to the health and safety of our team\, startups\, partners\, and attendees\, and is actively monitoring local guidelines and CDC recommendations.
URL:https://greentownlabs.com/event/energybar-celebrating-a-decade-of-impact/
LOCATION:Greentown Boston\, 444 Somerville Ave\, Somerville\, Massachusetts\, 02143\, United States
CATEGORIES:EnergyBar
ATTACH;FMTTYPE=image/png:https://greentownlabs.com/wp-content/uploads/2023/01/Copy-of-EnergyBar-Climatetech-Career-Fair-9.13.22.png
END:VEVENT
END:VCALENDAR