BEGIN:VCALENDAR
VERSION:2.0
PRODID:-//Greentown Labs - ECPv6.15.20//NONSGML v1.0//EN
CALSCALE:GREGORIAN
METHOD:PUBLISH
X-WR-CALNAME:Greentown Labs
X-ORIGINAL-URL:https://greentownlabs.com
X-WR-CALDESC:Events for Greentown Labs
REFRESH-INTERVAL;VALUE=DURATION:PT1H
X-Robots-Tag:noindex
X-PUBLISHED-TTL:PT1H
BEGIN:VTIMEZONE
TZID:America/Chicago
BEGIN:DAYLIGHT
TZOFFSETFROM:-0600
TZOFFSETTO:-0500
TZNAME:CDT
DTSTART:20210314T080000
END:DAYLIGHT
BEGIN:STANDARD
TZOFFSETFROM:-0500
TZOFFSETTO:-0600
TZNAME:CST
DTSTART:20211107T070000
END:STANDARD
BEGIN:DAYLIGHT
TZOFFSETFROM:-0600
TZOFFSETTO:-0500
TZNAME:CDT
DTSTART:20220313T080000
END:DAYLIGHT
BEGIN:STANDARD
TZOFFSETFROM:-0500
TZOFFSETTO:-0600
TZNAME:CST
DTSTART:20221106T070000
END:STANDARD
BEGIN:DAYLIGHT
TZOFFSETFROM:-0600
TZOFFSETTO:-0500
TZNAME:CDT
DTSTART:20230312T080000
END:DAYLIGHT
BEGIN:STANDARD
TZOFFSETFROM:-0500
TZOFFSETTO:-0600
TZNAME:CST
DTSTART:20231105T070000
END:STANDARD
END:VTIMEZONE
BEGIN:VEVENT
DTSTART;TZID=America/Chicago:20220804T173000
DTEND;TZID=America/Chicago:20220804T193000
DTSTAMP:20260421T053914
CREATED:20220503T202823Z
LAST-MODIFIED:20220510T141648Z
UID:26959-1659634200-1659641400@greentownlabs.com
SUMMARY:EnergyBar: Summer Rooftop Networking
DESCRIPTION:EnergyBar is Greentown Labs’ networking event devoted to connecting partners and investors to our community of climatetech entrepreneurs!\n\n\n\n\nBuy Tickets on Eventbrite\n\nRegister Now\n\n\n\n\n\n\n\nThursday\, August 4 | 5:30pm ET – 7:30pm ET | Somerville\, MA \n\n\n\nJoin us for a summer edition of our signature EnergyBar networking event! Entrepreneurs\, investors\, students\, and friends of climatetech are invited to attend\, meet colleagues\, and expand our growing regional climatetech network. Come network and enjoy a beverage on the Greentown roof deck! \n\n\n\n \n\n\n\n\n\n\n\n \n\n\n\nAbout EnergyBar\n\n\n\nEnergyBar is Greentown Labs’ signature networking event that fosters conversation and collaboration among entrepreneurs\, investors\, corporate leaders\, students\, neighbors\, and other climate champions passionate about innnovations in climatetech and the energy transition. \n\n\n\n\n	\n\n\nRegister Now\n\n\n\nQuestions? Reach out to Greentown Labs’ Senior Manager of Events\, Jill Kirkpatrick (jill@greentownlabs.com) \n\n\n\n\n\n\n\n\n\n\n\n\n\n\n\nVenue Information \n\n\n\nParking is incredibly limited at Greentown Labs and we encourage attendees to consider taking advantage of public transportation. We’re a short walk from the newly opened Union Square station\, as well as 1 mile away from the Harvard MBTA station. Union Square in Somerville is also easily accessible via the #86 and #91 MBTA buses. We offer indoor bike parking on-site and the closest Bluebikes stations are at Dane St.\, Conway Park and Union Square. \n\n\n\n \n\n\n\n\n\n \n\n\n\n \n\n\n\n \n\n\n\nEvent Health + Safety Policy\n\n\n\n \n\n\n\nThis event is in-person and masks are encouraged but not requires Greentown Labs. We recommend a medical grade or K/N95 mask; Greentown provides medical grade masks at the front desk of each location.  \n\n\n\nGreentown Labs is committed to the health and safety of our team\, startups\, partners\, and attendees\, and is actively monitoring local guidelines and CDC recommendations. Please reach out Jill Kirkpatrick (jill@greentownlabs.com)\, Senior Manager of Events\, with any questions on our safety policy.
URL:https://greentownlabs.com/event/energybar-august-2022/
LOCATION:Greentown Boston\, 444 Somerville Ave\, Somerville\, Massachusetts\, 02143\, United States
CATEGORIES:EnergyBar
ATTACH;FMTTYPE=image/png:https://greentownlabs.com/wp-content/uploads/2022/05/Summer-EnergyBar-Rooftop-Networking-8.4.png
END:VEVENT
END:VCALENDAR