BEGIN:VCALENDAR
VERSION:2.0
PRODID:-//Greentown Labs - ECPv6.15.20//NONSGML v1.0//EN
CALSCALE:GREGORIAN
METHOD:PUBLISH
X-WR-CALNAME:Greentown Labs
X-ORIGINAL-URL:https://greentownlabs.com
X-WR-CALDESC:Events for Greentown Labs
REFRESH-INTERVAL;VALUE=DURATION:PT1H
X-Robots-Tag:noindex
X-PUBLISHED-TTL:PT1H
BEGIN:VTIMEZONE
TZID:America/Chicago
BEGIN:DAYLIGHT
TZOFFSETFROM:-0600
TZOFFSETTO:-0500
TZNAME:CDT
DTSTART:20240310T080000
END:DAYLIGHT
BEGIN:STANDARD
TZOFFSETFROM:-0500
TZOFFSETTO:-0600
TZNAME:CST
DTSTART:20241103T070000
END:STANDARD
BEGIN:DAYLIGHT
TZOFFSETFROM:-0600
TZOFFSETTO:-0500
TZNAME:CDT
DTSTART:20250309T080000
END:DAYLIGHT
BEGIN:STANDARD
TZOFFSETFROM:-0500
TZOFFSETTO:-0600
TZNAME:CST
DTSTART:20251102T070000
END:STANDARD
BEGIN:DAYLIGHT
TZOFFSETFROM:-0600
TZOFFSETTO:-0500
TZNAME:CDT
DTSTART:20260308T080000
END:DAYLIGHT
BEGIN:STANDARD
TZOFFSETFROM:-0500
TZOFFSETTO:-0600
TZNAME:CST
DTSTART:20261101T070000
END:STANDARD
END:VTIMEZONE
BEGIN:VEVENT
DTSTART;TZID=America/Chicago:20250211T173000
DTEND;TZID=America/Chicago:20250211T193000
DTSTAMP:20260420T094108
CREATED:20250121T162146Z
LAST-MODIFIED:20250130T155738Z
UID:36727-1739295000-1739302200@greentownlabs.com
SUMMARY:Climate Salon: The "Other" Footprints
DESCRIPTION:Take a step back to explore innovations that help us adapt to\, mitigate\, or reduce our effects on various footprints\n\n\n\n\n\n\n  Register for Event\n\n\n\n\n\n\n\n\n\n\n​We talk a lot about carbon footprints. But what about carbon’s secondary effects on other critical systems\, such as biodiversity\, land\, water and ocean systems\, or even urban or energy footprints? At this Climate Salon\, attendees will have the chance to hear from experts and explore solutions in these areas. \n\n\n\n​In this salon\, we’ll take a “step” back to explore innovations that help us adapt to\, mitigate\, or reduce our effects on: \n\n\n\n\n​Our Urban Footprint\n\n\n\n​Our Biodiversity Footprint\n\n\n\n​Our Water Footprint\n\n\n\n​Our Energy Grid Footprint\n\n\n\n​Our Food & Agriculture Footprint\n\n\n\n\nRegister Now\n\n\n\n\n\n\n\nVenue Information \n\n\n\nIf you have questions or need to request accommodation\, please reach out to Greentown Labs’ Events Manager\, Kelly Wilson (kwilson@greentownlabs.com). \n\n\n\nParking is incredibly limited at Greentown Labs and we encourage attendees to consider taking advantage of public transportation. We’re a short walk from the recently opened Union Square station\, as well as 1 mile away from both the Harvard and Porter MBTA stations. Union Square in Somerville is also easily accessible via the #86 and #91 MBTA buses. We offer bike parking on-site and the closest Bluebikes stations are at Dane St.\, Conway Park and Union Square.
URL:https://greentownlabs.com/event/climate-salon-other-footprints/
LOCATION:Greentown Boston\, 444 Somerville Ave\, Somerville\, Massachusetts\, 02143\, United States
CATEGORIES:Boston,EnergyBar
ATTACH;FMTTYPE=image/png:https://greentownlabs.com/wp-content/uploads/2025/01/Climate-Salon.png
END:VEVENT
END:VCALENDAR