BEGIN:VCALENDAR
VERSION:2.0
PRODID:-//Greentown Labs - ECPv6.15.20//NONSGML v1.0//EN
CALSCALE:GREGORIAN
METHOD:PUBLISH
X-WR-CALNAME:Greentown Labs
X-ORIGINAL-URL:https://greentownlabs.com
X-WR-CALDESC:Events for Greentown Labs
REFRESH-INTERVAL;VALUE=DURATION:PT1H
X-Robots-Tag:noindex
X-PUBLISHED-TTL:PT1H
BEGIN:VTIMEZONE
TZID:America/Chicago
BEGIN:DAYLIGHT
TZOFFSETFROM:-0600
TZOFFSETTO:-0500
TZNAME:CDT
DTSTART:20210314T080000
END:DAYLIGHT
BEGIN:STANDARD
TZOFFSETFROM:-0500
TZOFFSETTO:-0600
TZNAME:CST
DTSTART:20211107T070000
END:STANDARD
BEGIN:DAYLIGHT
TZOFFSETFROM:-0600
TZOFFSETTO:-0500
TZNAME:CDT
DTSTART:20220313T080000
END:DAYLIGHT
BEGIN:STANDARD
TZOFFSETFROM:-0500
TZOFFSETTO:-0600
TZNAME:CST
DTSTART:20221106T070000
END:STANDARD
BEGIN:DAYLIGHT
TZOFFSETFROM:-0600
TZOFFSETTO:-0500
TZNAME:CDT
DTSTART:20230312T080000
END:DAYLIGHT
BEGIN:STANDARD
TZOFFSETFROM:-0500
TZOFFSETTO:-0600
TZNAME:CST
DTSTART:20231105T070000
END:STANDARD
END:VTIMEZONE
BEGIN:VEVENT
DTSTART;TZID=America/Chicago:20220617T180000
DTEND;TZID=America/Chicago:20220617T210000
DTSTAMP:20260420T142140
CREATED:20220526T134715Z
LAST-MODIFIED:20220607T125508Z
UID:27196-1655488800-1655499600@greentownlabs.com
SUMMARY:Celebrate Juneteenth ￼￼
DESCRIPTION:Celebrate Juneteenth with AABE Boston & Greentown Labs\n\n\n\nFriday\, June 17 | 6:00-9:00pm ET | Somerville\, MA \n\n\n\nJoin AABE Boston in partnership with Greentown Labs to celebrate Juneteenth with networking\, games\, and special guests! Featuring Black owned spirits\, wines and locally brewed beers.  \n\n\n\nRegister here. \n\n\n\n \n\n\n\nAbout AABE\n\n\n\nThe American Association of Blacks in Energy (AABE) is a national association of energy professionals founded and dedicated to ensuring the input of African Americans and other minorities into the discussions and developments of energy policies\, regulations\, emerging technologies\, and environmental issues. \n\n\n\nThe Greater Boston Chapter of AABE is a recognized nonprofit organization founded in 2014. In addition to furthering the AABE mission in the Greater Boston area\, our primary initiative of helping build the pipeline of underrepresented minorities to enter the energy industry is done by providing mentorship and scholarship funds to greater Boston students pursuing energy and STEM related careers \n\n\n\nSponsored By:\n\n\n\n\n\n\n\n\n\n\n\nVenue Information \n\n\n\nParking is incredibly limited at Greentown Labs and we encourage attendees to consider taking advantage of public transportation. We’re a short walk from the newly opened Union Square station\, as well as 1 mile away from the Harvard MBTA station. Union Square in Somerville is also easily accessible via the #86 and #91 MBTA buses. We offer indoor bike parking on-site and the closest Bluebikes stations are at Dane St.\, Conway Park and Union Square. \n\n\n\n \n\n\n\n\n\n \n\n\n\n \n\n\n\n \n\n\n\nEvent Health + Safety Policy\n\n\n\nThis event is in-person and masks are encouraged but not requires Greentown Labs. We recommend a medical grade or K/N95 mask; Greentown provides medical grade masks at the front desk of each location. Please reach out Jill Kirkpatrick (jill@greentownlabs.com)\, Senior Manager of Events\, with any questions on our safety policy.
URL:https://greentownlabs.com/event/celebrate-juneteenth/
LOCATION:Greentown Boston\, 444 Somerville Ave\, Somerville\, Massachusetts\, 02143\, United States
CATEGORIES:EnergyBar
ATTACH;FMTTYPE=image/png:https://greentownlabs.com/wp-content/uploads/2022/05/AABE-Juneteenth-.png
END:VEVENT
END:VCALENDAR