BEGIN:VCALENDAR
VERSION:2.0
PRODID:-//Greentown Labs - ECPv6.15.20//NONSGML v1.0//EN
CALSCALE:GREGORIAN
METHOD:PUBLISH
X-WR-CALNAME:Greentown Labs
X-ORIGINAL-URL:https://greentownlabs.com
X-WR-CALDESC:Events for Greentown Labs
REFRESH-INTERVAL;VALUE=DURATION:PT1H
X-Robots-Tag:noindex
X-PUBLISHED-TTL:PT1H
BEGIN:VTIMEZONE
TZID:America/Chicago
BEGIN:DAYLIGHT
TZOFFSETFROM:-0600
TZOFFSETTO:-0500
TZNAME:CDT
DTSTART:20250309T080000
END:DAYLIGHT
BEGIN:STANDARD
TZOFFSETFROM:-0500
TZOFFSETTO:-0600
TZNAME:CST
DTSTART:20251102T070000
END:STANDARD
BEGIN:DAYLIGHT
TZOFFSETFROM:-0600
TZOFFSETTO:-0500
TZNAME:CDT
DTSTART:20260308T080000
END:DAYLIGHT
BEGIN:STANDARD
TZOFFSETFROM:-0500
TZOFFSETTO:-0600
TZNAME:CST
DTSTART:20261101T070000
END:STANDARD
BEGIN:DAYLIGHT
TZOFFSETFROM:-0600
TZOFFSETTO:-0500
TZNAME:CDT
DTSTART:20270314T080000
END:DAYLIGHT
BEGIN:STANDARD
TZOFFSETFROM:-0500
TZOFFSETTO:-0600
TZNAME:CST
DTSTART:20271107T070000
END:STANDARD
END:VTIMEZONE
BEGIN:VEVENT
DTSTART;TZID=America/Chicago:20260311T160000
DTEND;TZID=America/Chicago:20260311T190000
DTSTAMP:20260419T104559
CREATED:20260204T225214Z
LAST-MODIFIED:20260204T225324Z
UID:40822-1773244800-1773255600@greentownlabs.com
SUMMARY:2026 Cleantech Open Northeast Boston Kickoff Party
DESCRIPTION:Join us for an evening of food\, drink\, celebration\, and opportunity!\n\n\n\nCome join Cleantech Open Northeast for an evening of food\, drink\, celebration and opportunity at Greentown Labs in Somerville\, MA! Since 2005\, almost 60% of Cleantech Open’s reporting U.S. alumni companies are still active and have collectively raised over $2B in external funding. \n\n\n\nLearn how the accelerator program can help you develop your cleantech venture and how to apply to the accelerator. We welcome entrepreneurs\, students\, investors\, savvy technologists\, and those interested in joining our growing cleantech community. \n\n\n\nEVENT AGENDA: \n\n\n\nAbout Cleantech Open – meet the Cleantech Open Northeast team and learn about opportunities to be involved. \n\n\n\nAlumni Lightning Talks – hear from Cleantech Open alumni about their experiences in the program. \n\n\n\nEntrepreneur Introductions – tell us about yourself and your clean technology & business. To participate in this part of the program\, please sign up when you register! \n\n\n\nQ&A – ask your questions about the program\, application process\, and more. \n\n\n\nNetworking – meet people in the local ecosystem who are interested in and support Boston cleantech entrepreneurs in a wide variety of ways. \n\n\n\nThe Cleantech Open early bird application is open February 1-27! Early bird applicants receive a reduced application and program fee.  \n\n\n\nEvent Speakers: \n\n\n\nTrish Flemming\, 2026 Cleantech Open Northeast Mentor Committee Co-Chair \n\n\n\nJoshua Persky\, Co-Founder & CTO of Teragen Energy (2025 Northeast Regional Winner\, National Semi-Finalist) \n\n\n\nJose LaSalle and Joe Hastry\, Co-Founders of Florrent (2022 Cleantech Open Northeast Regional Finalist) \n\n\n\nWinston Morton\, CEO of Climative (2024 Cleantech Open Northeast Alum) \n\n\n\nIan Goodine and Ethan Walko\, Co-founders of rStream (2021 Cleantech Open Northeast Alum) \n\n\n\nEllie Rusling\, CEO and Co-founder of MicroEra Power (2016 Cleantech Open Northeast Alum) \n\n\n\nRegister Now\n\n\n\nLearn more and register here! \n\n\n\nIf you have questions or need to request accommodation\, please reach out to Greentown Labs’ Ecosystem and Events Manager\, Kelly Wilson (kwilson@greentownlabs.com). \n\n\n\nVenue Information \n\n\n\nParking is incredibly limited at Greentown Labs and we encourage attendees to consider taking advantage of public transportation. We’re a short walk from the recently opened Union Square station\, as well as 1 mile away from both the Harvard and Porter MBTA stations. Union Square in Somerville is also easily accessible via the #86 and #91 MBTA buses. We offer bike parking on-site and the closest Bluebikes stations are at Dane St.\, Conway Park and Union Square.
URL:https://greentownlabs.com/event/2026-ctone-boston-kickoff/
LOCATION:Greentown Boston\, 444 Somerville Ave\, Somerville\, Massachusetts\, 02143\, United States
CATEGORIES:Boston
ATTACH;FMTTYPE=image/png:https://greentownlabs.com/wp-content/uploads/2026/02/2026-CTONE-Kickoff-Party.png
END:VEVENT
END:VCALENDAR